BEGIN:VCALENDAR
VERSION:2.0
PRODID:-//Game On Hosting Essentials 2026 - ECPv6.15.17.1//NONSGML v1.0//EN
CALSCALE:GREGORIAN
METHOD:PUBLISH
X-ORIGINAL-URL:https://gameon2026.rentresponsibly.org
X-WR-CALDESC:Events for Game On Hosting Essentials 2026
REFRESH-INTERVAL;VALUE=DURATION:PT1H
X-Robots-Tag:noindex
X-PUBLISHED-TTL:PT1H
BEGIN:VTIMEZONE
TZID:America/New_York
BEGIN:DAYLIGHT
TZOFFSETFROM:-0500
TZOFFSETTO:-0400
TZNAME:EDT
DTSTART:20250309T070000
END:DAYLIGHT
BEGIN:STANDARD
TZOFFSETFROM:-0400
TZOFFSETTO:-0500
TZNAME:EST
DTSTART:20251102T060000
END:STANDARD
BEGIN:DAYLIGHT
TZOFFSETFROM:-0500
TZOFFSETTO:-0400
TZNAME:EDT
DTSTART:20260308T070000
END:DAYLIGHT
BEGIN:STANDARD
TZOFFSETFROM:-0400
TZOFFSETTO:-0500
TZNAME:EST
DTSTART:20261101T060000
END:STANDARD
BEGIN:DAYLIGHT
TZOFFSETFROM:-0500
TZOFFSETTO:-0400
TZNAME:EDT
DTSTART:20270314T070000
END:DAYLIGHT
BEGIN:STANDARD
TZOFFSETFROM:-0400
TZOFFSETTO:-0500
TZNAME:EST
DTSTART:20271107T060000
END:STANDARD
END:VTIMEZONE
BEGIN:VEVENT
DTSTART;TZID=America/New_York:20260325T140000
DTEND;TZID=America/New_York:20260325T153000
DTSTAMP:20260423T132933
CREATED:20260224T201034Z
LAST-MODIFIED:20260320T202519Z
UID:10000001-1774447200-1774452600@gameon2026.rentresponsibly.org
SUMMARY:National Kickoff - Virtual Host Meetup
DESCRIPTION:Are you ready to book your host city property and welcome guests for the world’s biggest sporting event? Whether you’re brand new to hosting or you’ve been in the game a year or two\, this part I event in the Game On series will cover the essentials you’ll want to check now – like calculating taxes correctly to ensure your rates are profitable\, making sure there are no gaps in your insurance or guest vetting that expose expensive and dangerous risks\, and making sure you won’t face hefty city fines. We’ll also cover the unique opportunities of sports tourism to optimize your listings for better bookings and refine your guest experience to get the big three Rs: reviews\, repeats\, and referrals.  \nFeaturing experts from: Expedia Group\, Proper Insurance\, Avalara\, Truvi\, and Rent Responsibly \nRegister free to: \n\nJoin live to ask the experts – no question is too big or small\nGet the replay\, transcript\, slide decks and links\n\n(And don’t forget to sign up for part II in your local region for more!)
URL:https://gameon2026.rentresponsibly.org/event/national-kickoff-virtual-host-meetup/
ATTACH;FMTTYPE=image/png:https://gameon2026.rentresponsibly.org/wp-content/uploads/2026/02/Game-on_-Hosting-Essentials_-National-Kickoff-Generic-1200-x-628.png
LOCATION:https://gameon2026.rentresponsibly.org/event/national-kickoff-virtual-host-meetup/
END:VEVENT
END:VCALENDAR